BEGIN:VCALENDAR
VERSION:2.0
PRODID:SchoolNow
CALSCALE:GREGORIAN
BEGIN:VEVENT
UID:f0447e44-d286-11e9-842c-122662700122
DTSTAMP:20190908T222241Z
SUMMARY:Open House
URL;VALUE=URI:https://www.norwood.k12.ma.us/cleveland/calendar/2086763/open
 -house
DTSTART:20190919T213000Z
DTEND:20190919T230000Z
END:VEVENT
END:VCALENDAR
