BEGIN:VCALENDAR
VERSION:2.0
PRODID:SchoolNow
CALSCALE:GREGORIAN
BEGIN:VEVENT
UID:25c5379e-d826-11e9-8103-0a3880c1385e
DTSTAMP:20190916T020316Z
SUMMARY:PTA Meeting
URL;VALUE=URI:https://www.norwood.k12.ma.us/cleveland/calendar/2094910/pta-
 meeting
DTSTART:20190924T230000Z
DTEND:20190925T003000Z
END:VEVENT
END:VCALENDAR
