BEGIN:VCALENDAR
VERSION:2.0
PRODID:SchoolNow
CALSCALE:GREGORIAN
BEGIN:VEVENT
UID:04eac7d2-f653-11e9-ac01-1251485fc71a
DTSTAMP:20191024T161532Z
SUMMARY:Monster Mash!
URL;VALUE=URI:https://www.norwood.k12.ma.us/cleveland/calendar/2130916/mons
 ter-mash
DTSTART:20191025T220000Z
DTEND:20191026T000000Z
END:VEVENT
END:VCALENDAR
