BEGIN:VCALENDAR
VERSION:2.0
PRODID:SchoolNow
CALSCALE:GREGORIAN
BEGIN:VEVENT
UID:3127b256-f653-11e9-a4c1-0a15a28e82b1
DTSTAMP:20191024T161243Z
SUMMARY:Fun Run
URL;VALUE=URI:https://www.norwood.k12.ma.us/cleveland/calendar/2130917/fun-
 run
DTSTART:20191029T130000Z
DTEND:20191029T183000Z
END:VEVENT
END:VCALENDAR
