BEGIN:VCALENDAR
VERSION:2.0
PRODID:SchoolNow
CALSCALE:GREGORIAN
BEGIN:VEVENT
UID:e49dd0a4-0625-11ea-9f74-1235c0cb9cc7
DTSTAMP:20191113T145720Z
SUMMARY:Norwood SEPAC Meeting
LOCATION:Room 219\, Savage Educational Center
URL;VALUE=URI:https://www.norwood.k12.ma.us/cleveland/calendar/2144681/norw
 ood-sepac-meeting
DTSTART:20191119T233000Z
DTEND:20191120T013000Z
END:VEVENT
END:VCALENDAR
