BEGIN:VCALENDAR
VERSION:2.0
PRODID:SchoolNow
CALSCALE:GREGORIAN
BEGIN:VEVENT
UID:43efbfd4-0678-11ea-b168-0a56e93fc73f
DTSTAMP:20191114T004659Z
SUMMARY:Jake n Joes Sports Grille Fundraiser
URL;VALUE=URI:https://www.norwood.k12.ma.us/cleveland/calendar/2145085/jake
 -n-joes-sports-grille-fundraiser
DTSTART:20191114T150000Z
DTEND:20191115T030000Z
END:VEVENT
END:VCALENDAR
