BEGIN:VCALENDAR
VERSION:2.0
PRODID:SchoolNow
CALSCALE:GREGORIAN
BEGIN:VEVENT
UID:1e9d6cca-2c45-11ea-ba61-0a6f78b1c62d
DTSTAMP:20200101T031636Z
SUMMARY:Chateau Fundraiser
URL;VALUE=URI:https://www.norwood.k12.ma.us/cleveland/calendar/2168312/chat
 eau-fundraiser
DTSTART:20200129T150000Z
DTEND:20200130T033000Z
END:VEVENT
END:VCALENDAR
