BEGIN:VCALENDAR
VERSION:2.0
PRODID:SchoolNow
CALSCALE:GREGORIAN
BEGIN:VEVENT
UID:30565d10-3de2-11ea-9ffb-12f52e30aa01
DTSTAMP:20200427T133809Z
SUMMARY:School Committee Meeting - REMOTE MEETING ONLINE
DESCRIPTION:Click "View Event Details" for Public Participation Instruction
 s
URL;VALUE=URI:https://www.norwood.k12.ma.us/cleveland/calendar/2187995/scho
 ol-committee-meeting
DTSTART:20200429T230000Z
DTEND:20200430T020000Z
END:VEVENT
END:VCALENDAR
