BEGIN:VCALENDAR
VERSION:2.0
PRODID:SchoolNow
CALSCALE:GREGORIAN
BEGIN:VEVENT
UID:2044753c-489c-11ea-81b2-0aac3050569f
DTSTAMP:20200206T044958Z
SUMMARY:5th Grade MCAS ELA
URL;VALUE=URI:https://www.norwood.k12.ma.us/cleveland/calendar/2196614/5th-
 grade-mcas-ela
DTSTART:20200414T130000Z
DTEND:20200414T185000Z
END:VEVENT
END:VCALENDAR
