BEGIN:VCALENDAR
VERSION:2.0
PRODID:SchoolNow
CALSCALE:GREGORIAN
BEGIN:VEVENT
UID:60ff0d3a-489c-11ea-851c-0a6635111bc3
DTSTAMP:20200206T051831Z
SUMMARY:5th Grade MCAS ELA
URL;VALUE=URI:https://www.norwood.k12.ma.us/cleveland/calendar/2196616/5th-
 grade-mcas-ela
DTSTART;VALUE=DATE:20200415
DTEND;VALUE=DATE:20200416
END:VEVENT
END:VCALENDAR
