BEGIN:VCALENDAR
VERSION:2.0
PRODID:SchoolNow
CALSCALE:GREGORIAN
BEGIN:VEVENT
UID:715b530e-489d-11ea-a477-0aac3050569f
DTSTAMP:20200206T051933Z
SUMMARY:3rd Grade MCAS ELA
URL;VALUE=URI:https://www.norwood.k12.ma.us/cleveland/calendar/2196619/3rd-
 grade-mcas-ela
DTSTART;VALUE=DATE:20200416
DTEND;VALUE=DATE:20200417
END:VEVENT
END:VCALENDAR
