BEGIN:VCALENDAR
VERSION:2.0
PRODID:SchoolNow
CALSCALE:GREGORIAN
BEGIN:VEVENT
UID:ff06d1a6-489d-11ea-b56c-1249fee6d3f9
DTSTAMP:20200206T050400Z
SUMMARY:3rd Grade MCAS ELA
URL;VALUE=URI:https://www.norwood.k12.ma.us/cleveland/calendar/2196620/3rd-
 grade-mcas-ela
DTSTART;VALUE=DATE:20200427
DTEND;VALUE=DATE:20200428
END:VEVENT
END:VCALENDAR
