BEGIN:VCALENDAR
VERSION:2.0
PRODID:SchoolNow
CALSCALE:GREGORIAN
BEGIN:VEVENT
UID:5f2faf9e-489e-11ea-b5e1-128e805e5987
DTSTAMP:20200206T050602Z
SUMMARY:4th Grade MCAS ELA
URL;VALUE=URI:https://www.norwood.k12.ma.us/cleveland/calendar/2196621/4th-
 grade-mcas-ela
DTSTART;VALUE=DATE:20200428
DTEND;VALUE=DATE:20200429
END:VEVENT
END:VCALENDAR
