BEGIN:VCALENDAR
VERSION:2.0
PRODID:SchoolNow
CALSCALE:GREGORIAN
BEGIN:VEVENT
UID:85c0640a-489e-11ea-a87d-128e805e5987
DTSTAMP:20200206T050707Z
SUMMARY:4th Grade MCAS ELA
URL;VALUE=URI:https://www.norwood.k12.ma.us/cleveland/calendar/2196622/4th-
 grade-mcas-ela
DTSTART;VALUE=DATE:20200429
DTEND;VALUE=DATE:20200430
END:VEVENT
END:VCALENDAR
