BEGIN:VCALENDAR
VERSION:2.0
PRODID:SchoolNow
CALSCALE:GREGORIAN
BEGIN:VEVENT
UID:d914b8e0-489e-11ea-b3f7-0a6635111bc3
DTSTAMP:20200206T050927Z
SUMMARY:3rd Grade MCAS Math
URL;VALUE=URI:https://www.norwood.k12.ma.us/cleveland/calendar/2196623/3rd-
 grade-mcas-math
DTSTART;VALUE=DATE:20200506
DTEND;VALUE=DATE:20200507
END:VEVENT
END:VCALENDAR
