BEGIN:VCALENDAR
VERSION:2.0
PRODID:SchoolNow
CALSCALE:GREGORIAN
BEGIN:VEVENT
UID:1e919b22-489f-11ea-8160-128e805e5987
DTSTAMP:20200206T051123Z
SUMMARY:3rd Grade MCAS Math
URL;VALUE=URI:https://www.norwood.k12.ma.us/cleveland/calendar/2196624/3rd-
 grade-mcas-math
DTSTART;VALUE=DATE:20200507
DTEND;VALUE=DATE:20200508
END:VEVENT
END:VCALENDAR
