BEGIN:VCALENDAR
VERSION:2.0
PRODID:SchoolNow
CALSCALE:GREGORIAN
BEGIN:VEVENT
UID:545f1482-489f-11ea-926a-128e805e5987
DTSTAMP:20200206T051254Z
SUMMARY:5th Grade MCAS Math
URL;VALUE=URI:https://www.norwood.k12.ma.us/cleveland/calendar/2196625/5th-
 grade-mcas-math
DTSTART;VALUE=DATE:20200511
DTEND;VALUE=DATE:20200512
END:VEVENT
END:VCALENDAR
