BEGIN:VCALENDAR
VERSION:2.0
PRODID:SchoolNow
CALSCALE:GREGORIAN
BEGIN:VEVENT
UID:72cf7100-489f-11ea-8290-128e805e5987
DTSTAMP:20200206T051345Z
SUMMARY:5th Grade MCAS Math
URL;VALUE=URI:https://www.norwood.k12.ma.us/cleveland/calendar/2196626/5th-
 grade-mcas-math
DTSTART;VALUE=DATE:20200512
DTEND;VALUE=DATE:20200513
END:VEVENT
END:VCALENDAR
