BEGIN:VCALENDAR
VERSION:2.0
PRODID:SchoolNow
CALSCALE:GREGORIAN
BEGIN:VEVENT
UID:9747c014-489f-11ea-8b5b-128e805e5987
DTSTAMP:20200206T051446Z
SUMMARY:4th Grade MCAS Math
URL;VALUE=URI:https://www.norwood.k12.ma.us/cleveland/calendar/2196627/4th-
 grade-mcas-math
DTSTART;VALUE=DATE:20200513
DTEND;VALUE=DATE:20200514
END:VEVENT
END:VCALENDAR
