BEGIN:VCALENDAR
VERSION:2.0
PRODID:SchoolNow
CALSCALE:GREGORIAN
BEGIN:VEVENT
UID:b29ff610-489f-11ea-af73-0aac3050569f
DTSTAMP:20200206T051532Z
SUMMARY:4th Grade MCAS Math
URL;VALUE=URI:https://www.norwood.k12.ma.us/cleveland/calendar/2196628/4th-
 grade-mcas-math
DTSTART;VALUE=DATE:20200514
DTEND;VALUE=DATE:20200515
END:VEVENT
END:VCALENDAR
