BEGIN:VCALENDAR
VERSION:2.0
PRODID:SchoolNow
CALSCALE:GREGORIAN
BEGIN:VEVENT
UID:c0b0b53c-c0b8-11ea-a189-0a1aae35db17
DTSTAMP:20200708T011712Z
SUMMARY:Pop-Up Kids Library at the Balch!
URL;VALUE=URI:https://www.norwood.k12.ma.us/cleveland/calendar/2273979/pop-
 up-kids-library-at-the-balch
DTSTART:20200709T140000Z
DTEND:20200709T170000Z
END:VEVENT
END:VCALENDAR
