BEGIN:VCALENDAR
VERSION:2.0
PRODID:SchoolNow
CALSCALE:GREGORIAN
BEGIN:VEVENT
UID:210858ea-c0b9-11ea-ba03-1247d7866517
DTSTAMP:20200708T011954Z
SUMMARY:Pop-Up Kids Library at the Prescott!
URL;VALUE=URI:https://www.norwood.k12.ma.us/cleveland/calendar/2273980/pop-
 up-kids-library-at-the-prescott
DTSTART:20200716T140000Z
DTEND:20200716T170000Z
END:VEVENT
END:VCALENDAR
