BEGIN:VCALENDAR
VERSION:2.0
PRODID:SchoolNow
CALSCALE:GREGORIAN
BEGIN:VEVENT
UID:65d77f64-c0b9-11ea-ab45-0a1aae35db17
DTSTAMP:20200708T012149Z
SUMMARY:Pop-Up Library at the Callahan!
URL;VALUE=URI:https://www.norwood.k12.ma.us/cleveland/calendar/2273981/pop-
 up-library-at-the-callahan
DTSTART:20200723T140000Z
DTEND:20200723T170000Z
END:VEVENT
END:VCALENDAR
