BEGIN:VCALENDAR
VERSION:2.0
PRODID:SchoolNow
CALSCALE:GREGORIAN
BEGIN:VEVENT
UID:bb69eb6a-c0b9-11ea-8bb7-12fd0e0e77b3
DTSTAMP:20200708T012413Z
SUMMARY:Pop-Up Kids Library at the Oldham!
URL;VALUE=URI:https://www.norwood.k12.ma.us/cleveland/calendar/2274043/pop-
 up-kids-library-at-the-oldham
DTSTART:20200730T140000Z
DTEND:20200730T170000Z
END:VEVENT
END:VCALENDAR
