BEGIN:VCALENDAR
VERSION:2.0
PRODID:SchoolNow
CALSCALE:GREGORIAN
BEGIN:VEVENT
UID:f8375eec-c0b9-11ea-a22e-12fd0e0e77b3
DTSTAMP:20200708T012555Z
SUMMARY:Pop-Up Library at the Cleveland!
URL;VALUE=URI:https://www.norwood.k12.ma.us/cleveland/calendar/2274056/pop-
 up-library-at-the-cleveland
DTSTART:20200806T140000Z
DTEND:20200806T170000Z
END:VEVENT
END:VCALENDAR
