BEGIN:VCALENDAR
VERSION:2.0
PRODID:SchoolNow
CALSCALE:GREGORIAN
BEGIN:VEVENT
UID:26edacbe-c0ba-11ea-baa7-0a7485870f55
DTSTAMP:20200708T012713Z
SUMMARY:Pop-Up Library at NHS!
URL;VALUE=URI:https://www.norwood.k12.ma.us/cleveland/calendar/2274062/pop-
 up-library-at-nhs
DTSTART:20200813T140000Z
DTEND:20200813T170000Z
END:VEVENT
END:VCALENDAR
