BEGIN:VCALENDAR
VERSION:2.0
PRODID:SchoolNow
CALSCALE:GREGORIAN
BEGIN:VEVENT
UID:56a6cc88-c0ba-11ea-8544-0a7485870f55
DTSTAMP:20200708T012833Z
SUMMARY:Pop-Up Library at the Coakley!
URL;VALUE=URI:https://www.norwood.k12.ma.us/cleveland/calendar/2274063/pop-
 up-library-at-the-coakley
DTSTART:20200820T140000Z
DTEND:20200820T170000Z
END:VEVENT
END:VCALENDAR
