BEGIN:VCALENDAR
VERSION:2.0
PRODID:SchoolNow
CALSCALE:GREGORIAN
BEGIN:VEVENT
UID:e191c88c-e92a-11ea-be32-0afb21c6f975
DTSTAMP:20200828T123457Z
SUMMARY:Early Release - All Schools
URL;VALUE=URI:https://www.norwood.k12.ma.us/cleveland/calendar/2323208/earl
 y-release-all-schools
DTSTART;VALUE=DATE:20201208
DTEND;VALUE=DATE:20201209
END:VEVENT
END:VCALENDAR
