BEGIN:VCALENDAR
VERSION:2.0
PRODID:SchoolNow
CALSCALE:GREGORIAN
BEGIN:VEVENT
UID:61faaac0-e92b-11ea-8dd7-0afb21c6f975
DTSTAMP:20200828T123832Z
SUMMARY:No School - Professional Day
URL;VALUE=URI:https://www.norwood.k12.ma.us/cleveland/calendar/2323248/no-s
 chool-professional-day
DTSTART;VALUE=DATE:20210104
DTEND;VALUE=DATE:20210105
END:VEVENT
END:VCALENDAR
