BEGIN:VCALENDAR
VERSION:2.0
PRODID:SchoolNow
CALSCALE:GREGORIAN
BEGIN:VEVENT
UID:bdc86838-e92b-11ea-af33-0afb21c6f975
DTSTAMP:20200828T124106Z
SUMMARY:No School - February Break
URL;VALUE=URI:https://www.norwood.k12.ma.us/cleveland/calendar/2323268/no-s
 chool-february-break
DTSTART;VALUE=DATE:20210215
DTEND;VALUE=DATE:20210220
END:VEVENT
END:VCALENDAR
