BEGIN:VCALENDAR
VERSION:2.0
PRODID:SchoolNow
CALSCALE:GREGORIAN
BEGIN:VEVENT
UID:f0c0c29e-e92b-11ea-b9a1-0afb21c6f975
DTSTAMP:20201009T145639Z
SUMMARY:Early Release - All Schools - Professional Development & Elementary
  Parent Conferences
URL;VALUE=URI:https://www.norwood.k12.ma.us/cleveland/calendar/2323277/earl
 y-release-all-schools-professional-development-elementary-parent-conferenc
 es
DTSTART;VALUE=DATE:20210303
DTEND;VALUE=DATE:20210304
END:VEVENT
END:VCALENDAR
