BEGIN:VCALENDAR
VERSION:2.0
PRODID:SchoolNow
CALSCALE:GREGORIAN
BEGIN:VEVENT
UID:2e3d2284-e92c-11ea-883c-0afb21c6f975
DTSTAMP:20210412T150406Z
SUMMARY:Early Release - All Schools
URL;VALUE=URI:https://www.norwood.k12.ma.us/cleveland/calendar/2323295/earl
 y-release-all-schools
DTSTART;VALUE=DATE:20210414
DTEND;VALUE=DATE:20210415
END:VEVENT
END:VCALENDAR
