BEGIN:VCALENDAR
VERSION:2.0
PRODID:SchoolNow
CALSCALE:GREGORIAN
BEGIN:VEVENT
UID:60b651c2-e92c-11ea-adb1-0afb21c6f975
DTSTAMP:20200828T124539Z
SUMMARY:No School - Good Friday
URL;VALUE=URI:https://www.norwood.k12.ma.us/cleveland/calendar/2323304/no-s
 chool-good-friday
DTSTART;VALUE=DATE:20210402
DTEND;VALUE=DATE:20210403
END:VEVENT
END:VCALENDAR
