BEGIN:VCALENDAR
VERSION:2.0
PRODID:SchoolNow
CALSCALE:GREGORIAN
BEGIN:VEVENT
UID:bf13829e-e92c-11ea-aca6-0afb21c6f975
DTSTAMP:20201009T145730Z
SUMMARY:Early Release - All Schools
URL;VALUE=URI:https://www.norwood.k12.ma.us/cleveland/calendar/2323325/earl
 y-release-all-schools
DTSTART;VALUE=DATE:20210512
DTEND;VALUE=DATE:20210513
END:VEVENT
END:VCALENDAR
