BEGIN:VCALENDAR
VERSION:2.0
PRODID:SchoolNow
CALSCALE:GREGORIAN
BEGIN:VEVENT
UID:dce2bf56-e92c-11ea-ad25-0afb21c6f975
DTSTAMP:20200828T124908Z
SUMMARY:No School - Memorial Day
URL;VALUE=URI:https://www.norwood.k12.ma.us/cleveland/calendar/2323334/no-s
 chool-memorial-day
DTSTART;VALUE=DATE:20210531
DTEND;VALUE=DATE:20210601
END:VEVENT
END:VCALENDAR
