BEGIN:VCALENDAR
VERSION:2.0
PRODID:SchoolNow
CALSCALE:GREGORIAN
BEGIN:VEVENT
UID:21bd7684-e92d-11ea-b0ea-0afb21c6f975
DTSTAMP:20200828T125103Z
SUMMARY:Last School Day - Additional 5 Days if Needed
URL;VALUE=URI:https://www.norwood.k12.ma.us/cleveland/calendar/2323352/last
 -school-day-additional-5-days-if-needed
DTSTART;VALUE=DATE:20210625
DTEND;VALUE=DATE:20210626
END:VEVENT
END:VCALENDAR
