BEGIN:VCALENDAR
VERSION:2.0
PRODID:SchoolNow
CALSCALE:GREGORIAN
BEGIN:VEVENT
UID:959768c4-eeb6-11ea-9c0a-12a421ff69db
DTSTAMP:20200904T135734Z
SUMMARY:Staggered Start: Full Time Students In School\; Hybrid Students Rem
 ote
URL;VALUE=URI:https://www.norwood.k12.ma.us/cleveland/calendar/2335444/stag
 gered-start-kindergarten-screening-full-time-students-in-school-hybrid-stu
 dents-remote
DTSTART;VALUE=DATE:20200917
DTEND;VALUE=DATE:20200919
END:VEVENT
END:VCALENDAR
