BEGIN:VCALENDAR
VERSION:2.0
PRODID:SchoolNow
CALSCALE:GREGORIAN
BEGIN:VEVENT
UID:e02e835c-f61a-11ea-a7ee-0a0028c5b8ad
DTSTAMP:20200913T234307Z
SUMMARY:First Grade Chromebook/Materials Pickup
URL;VALUE=URI:https://www.norwood.k12.ma.us/cleveland/calendar/2352741/firs
 t-grade-chromebook-materials-pickup
DTSTART:20200914T123000Z
DTEND:20200914T153000Z
END:VEVENT
END:VCALENDAR
