BEGIN:VCALENDAR
VERSION:2.0
PRODID:SchoolNow
CALSCALE:GREGORIAN
BEGIN:VEVENT
UID:318cf38c-f61b-11ea-be4a-0a0028c5b8ad
DTSTAMP:20200913T234524Z
SUMMARY:Second Grade Chromebook/Materials Pickup
URL;VALUE=URI:https://www.norwood.k12.ma.us/cleveland/calendar/2352744/seco
 nd-grade-chromebook-materials-pickup
DTSTART:20200914T160000Z
DTEND:20200914T190000Z
END:VEVENT
END:VCALENDAR
