BEGIN:VCALENDAR
VERSION:2.0
PRODID:SchoolNow
CALSCALE:GREGORIAN
BEGIN:VEVENT
UID:5eb91e62-f61b-11ea-85ec-12bfd182f04f
DTSTAMP:20200913T234640Z
SUMMARY:Third Grade Chromebook/Materials Pickup
URL;VALUE=URI:https://www.norwood.k12.ma.us/cleveland/calendar/2352745/thir
 d-grade-chromebook-materials-pickup
DTSTART:20200915T123000Z
DTEND:20200915T143000Z
END:VEVENT
END:VCALENDAR
