BEGIN:VCALENDAR
VERSION:2.0
PRODID:SchoolNow
CALSCALE:GREGORIAN
BEGIN:VEVENT
UID:95912434-f61b-11ea-ab2b-12bfd182f04f
DTSTAMP:20200913T234812Z
SUMMARY:Fourth Grade Chromebook/Materials Pickup
URL;VALUE=URI:https://www.norwood.k12.ma.us/cleveland/calendar/2352746/four
 th-grade-chromebook-materials-pickup
DTSTART:20200915T143000Z
DTEND:20200915T163000Z
END:VEVENT
END:VCALENDAR
