BEGIN:VCALENDAR
VERSION:2.0
PRODID:SchoolNow
CALSCALE:GREGORIAN
BEGIN:VEVENT
UID:d12b51ea-f61b-11ea-a07b-0a0028c5b8ad
DTSTAMP:20200913T234952Z
SUMMARY:Fifth Grade Chromebook/Materials Pickup
URL;VALUE=URI:https://www.norwood.k12.ma.us/cleveland/calendar/2352747/fift
 h-grade-chromebook-materials-pickup
DTSTART:20200915T163000Z
DTEND:20200915T183000Z
END:VEVENT
END:VCALENDAR
