BEGIN:VCALENDAR
VERSION:2.0
PRODID:SchoolNow
CALSCALE:GREGORIAN
BEGIN:VEVENT
UID:e07fd450-1154-11eb-8d02-0a819dd8bf43
DTSTAMP:20201026T040322Z
SUMMARY:Cleveland Virtual Meet The Teachers (Click for Times)
URL;VALUE=URI:https://www.norwood.k12.ma.us/cleveland/calendar/2473321/clev
 eland-virtual-open-house-click-for-times
DTSTART:20201028T151300Z
DTEND:20201028T161300Z
END:VEVENT
END:VCALENDAR
