BEGIN:VCALENDAR
VERSION:2.0
PRODID:SchoolNow
CALSCALE:GREGORIAN
BEGIN:VEVENT
UID:6216b29e-1156-11eb-a484-122d146219ab
DTSTAMP:20201018T152707Z
SUMMARY:Picture Day- Blue Cohort
URL;VALUE=URI:https://www.norwood.k12.ma.us/cleveland/calendar/2473322/pict
 ure-day-blue-cohort
DTSTART:20201027T152600Z
DTEND:20201027T162600Z
END:VEVENT
END:VCALENDAR
