BEGIN:VCALENDAR
VERSION:2.0
PRODID:SchoolNow
CALSCALE:GREGORIAN
BEGIN:VEVENT
UID:79cf5ae4-1156-11eb-9e86-122d146219ab
DTSTAMP:20201018T152747Z
SUMMARY:Picture Day - Gold Cohort
URL;VALUE=URI:https://www.norwood.k12.ma.us/cleveland/calendar/2473323/pict
 ure-day-gold-cohort
DTSTART:20201029T152700Z
DTEND:20201029T162700Z
END:VEVENT
END:VCALENDAR
