BEGIN:VCALENDAR
VERSION:2.0
PRODID:SchoolNow
CALSCALE:GREGORIAN
BEGIN:VEVENT
UID:cbd729a2-1156-11eb-a54a-122d146219ab
DTSTAMP:20201018T153004Z
SUMMARY:Orange and Black Day - Blue Cohort
URL;VALUE=URI:https://www.norwood.k12.ma.us/cleveland/calendar/2473324/oran
 ge-and-black-day-blue-cohort
DTSTART:20201026T152900Z
DTEND:20201026T162900Z
END:VEVENT
END:VCALENDAR
