BEGIN:VCALENDAR
VERSION:2.0
PRODID:SchoolNow
CALSCALE:GREGORIAN
BEGIN:VEVENT
UID:e2d886fa-1156-11eb-b06c-122d146219ab
DTSTAMP:20201018T153043Z
SUMMARY:Orange and Black Day - Gold Cohort
URL;VALUE=URI:https://www.norwood.k12.ma.us/cleveland/calendar/2473325/oran
 ge-and-black-day-gold-cohort
DTSTART:20201030T153000Z
DTEND:20201030T163000Z
END:VEVENT
END:VCALENDAR
