BEGIN:VCALENDAR
VERSION:2.0
PRODID:SchoolNow
CALSCALE:GREGORIAN
BEGIN:VEVENT
UID:6a560f6c-1157-11eb-87ad-0af5c201bb17
DTSTAMP:20201018T153430Z
SUMMARY:PTO Meeting (Click For Details)
URL;VALUE=URI:https://www.norwood.k12.ma.us/cleveland/calendar/2473326/pto-
 meeting-click-for-details
DTSTART:20201125T000000Z
DTEND:20201125T010000Z
END:VEVENT
END:VCALENDAR
