BEGIN:VCALENDAR
VERSION:2.0
PRODID:SchoolNow
CALSCALE:GREGORIAN
BEGIN:VEVENT
UID:cc4a7a50-1e36-11eb-8fce-0adac51ff1e3
DTSTAMP:20201104T004346Z
SUMMARY:Virtual Evening Parent Conferences
URL;VALUE=URI:https://www.norwood.k12.ma.us/cleveland/calendar/2488664/virt
 ual-evening-parent-conferences
DTSTART:20201118T004200Z
DTEND:20201118T014200Z
END:VEVENT
END:VCALENDAR
