BEGIN:VCALENDAR
VERSION:2.0
PRODID:SchoolNow
CALSCALE:GREGORIAN
BEGIN:VEVENT
UID:d0942c2c-1e37-11eb-aab4-0adac51ff1e3
DTSTAMP:20201104T005103Z
SUMMARY:PTO Orange Leaf Fundraiser
URL;VALUE=URI:https://www.norwood.k12.ma.us/cleveland/calendar/2488665/pto-
 orange-leaf-fundraiser
DTSTART;VALUE=DATE:20201111
DTEND;VALUE=DATE:20201112
ATTACH;FILENAME=Orange Leaf flyer 11.11.20.jpg;FMTTYPE=image/jpeg:https://c
 ampussuite-storage.s3.amazonaws.com/prod/1213978/583ade96-581b-11e7-99ef-1
 24f7febbf4a/2180040/773b7cac-1e37-11eb-9e28-0adac51ff1e3/file/Orange Leaf 
 flyer 11.11.20.jpg
END:VEVENT
END:VCALENDAR
